Workbook

Sheet Культ
A1: Мероприятие | B1: Год | C1: Объем финансирования, тыс. руб. | D1: в том числе за счет средств | G1: Исполнитель
D2: федерального бюджета | E2: областного бюджета | F2: местного бюджета
D3: бюджета
A4: Строительство дома досуга "Заветновский" на 100 мест | B4: Всего: | C4: =D4+E4+F4 -> 46800 | D4: =D5+D6 -> 13500 | E4: =E5+E6 -> 18000 | F4: =F5+F6 -> 15300
A5: проектно-изыскательские работы | B5: 2015 | C5: =D5+E5+F5 -> 1800 | D5: 0 | E5: 0 | F5: 1800 | G5: МУП "Капитальное строительство"
A6: строительство строительный контроль | B6: 2016 | C6: =D6+E6+F6 -> 45000 | D6: 13500 | E6: 18000 | F6: 13500 | G6: МУП "Капитальное строительство", МБУ "Единая дирекция по капитальному строительству и охране окружающей среды"
A7: Строительство дома досуга "Широкопольский" на 50 мест | B7: Всего: | C7: =D7+E7+F7 -> 28200 | D7: =D8+D9 -> 8190 | E7: =E8+E9 -> 10920 | F7: =F8+F9 -> 9090
A8: проектно-изыскательские работы | B8: 2017 | C8: =D8+E8+F8 -> 900 | D8: 0 | E8: 0 | F8: 900 | G8: МУП "Капитальное строительство"
A9: строительство строительный контроль | B9: 2018 | C9: =D9+E9+F9 -> 27300 | D9: 8190 | E9: 10920 | F9: 8190 | G9: МУП "Капитальное строительство", МБУ "Единая дирекция по капитальному строительству и охране окружающей среды"
A10: Строительство дома досуга "Смеловский" на 50 мест | B10: Всего: | C10: =D10+E10+F10 -> 28200 | D10: =D11+D12 -> 8190 | E10: =E11+E12 -> 10920 | F10: =F11+F12 -> 9090
A11: проектно-изыскательские работы | B11: 2019 | C11: =D11+E11+F11 -> 900 | D11: 0 | E11: 0 | F11: 900 | G11: МУП "Капитальное строительство"
A12: строительство строительный контроль | B12: 2020 | C12: =D12+E12+F12 -> 27300 | D12: 8190 | E12: 10920 | F12: 8190 | G12: МУП "Капитальное строительство", МБУ "Единая дирекция по капитальному строительству и охране окружающей среды"
A13: ИТОГО: | C13: =C4+C7+C10 -> 103200 | D13: =D4+D7+D10 -> 29880 | E13: =E4+E7+E10 -> 39840 | F13: =F4+F7+F10 -> 33480
B15: 2013
B16: 2014
B17: 2015 | C17: =C5 -> 1800 | D17: =D5 -> 0 | E17: =E5 -> 0 | F17: =F5 -> 1800
B18: 2016 | C18: =C6 -> 45000 | D18: =D6 -> 13500 | E18: =E6 -> 18000 | F18: =F6 -> 13500
B19: 2017 | C19: =C8 -> 900 | D19: =D8 -> 0 | E19: =E8 -> 0 | F19: =F8 -> 900
B20: 2018 | C20: =C9 -> 27300 | D20: =D9 -> 8190 | E20: =E9 -> 10920 | F20: =F9 -> 8190
B21: 2019 | C21: =C11 -> 900 | D21: =D11 -> 0 | E21: =E11 -> 0 | F21: =F11 -> 900
B22: 2020 | C22: =C12 -> 27300 | D22: =D12 -> 8190 | E22: =E12 -> 10920 | F22: =F12 -> 8190

Sheet Жилье
A1: год | B1: Число семей, улучшивших жилищные условия (прогноз) | C1: Объем ввода жилья, кв.м. (прогноз) | D1: Всего | E1: федеральный бюджет | F1: Областной бюджет | G1: внебюджетные источники
A2: 2013 | B2: 24 | C2: 1282 | D2: =E2+F2+G2 -> 31108.6 | E2: 9332.6 | F2: 12443.4 | G2: 9332.6
A3: 2014 | B3: 25 | C3: 1346 | D3: =E3+F3+G3 -> 33396 | E3: 10018.8 | F3: 13358.4 | G3: 10018.8
A4: 2015 | B4: 26 | C4: 1384 | D4: =E4+F4+G4 -> 35086.3 | E4: 10525.9 | F4: 14034.5 | G4: 10525.9
A5: 2016 | B5: 26 | C5: 1422 | D5: =E5+F5+G5 -> 36835 | E5: 11050.5 | F5: 14734 | G5: 11050.5
A6: 2017 | B6: 27 | C6: 1462 | D6: =E6+F6+G6 -> 38714.7 | E6: 11614.4 | F6: 15485.9 | G6: 11614.4
A7: 2018 | B7: 28 | C7: 1500 | D7: =E7+F7+G7 -> 40586.7 | E7: 12176 | F7: 16234.7 | G7: 12176
A8: 2019 | B8: 28 | C8: 1537 | D8: =E8+F8+G8 -> 42522.1 | E8: 12756.6 | F8: 17008.9 | G8: 12756.6
A9: 2020 | B9: 32 | C9: 1731 | D9: =E9+F9+G9 -> 48937.4 | E9: 14681.2 | F9: 19575 | G9: 14681.2
A10: Итого | B10: =SUM(B2:B9) -> 216 | C10: =SUM(C2:C9) -> 11664 | D10: =SUM(D2:D9) -> 307186.8 | E10: =SUM(E2:E9) -> 92156 | F10: =SUM(F2:F9) -> 122874.8 | G10: =SUM(G2:G9) -> 92156

Sheet Обр
A1: Мероприятие | B1: Год | C1: Объем финансирования, тыс. руб. | D1: в том числе за счет средств, тыс.руб. | G1: Исполнитель
D2: федерального бюджета | E2: областного бюджета | F2: местного бюджета
D3: бюджета
A4: Строительство школы в с.Безымянное на 176 ученических мест | B4: Всего: | C4: =SUM(D4:F4) -> 220710 | D4: =SUM(D5:D9) -> 66000 | E4: =SUM(E5:E9) -> 88000 | F4: =SUM(F5:F9) -> 66710
A5: внесение изменений в проект, экспертиза достоверности сметной стоимости | B5: 2014 | C5: =SUM(D5:F5) -> 710 | D5: 0 | E5: 0 | F5: 710 | G5: МУП "Капитальное строительство"
A6: строительство строительный контроль | B6: 2014 | C6: =SUM(D6:F7) -> 27735.8 | D6: 12415.4 | E6: 14000.4 | F6: 1320 | G6: МУП "Капитальное строительство", МБУ "Единая дирекция по капитальному строительству и охране окружающей среды"
A8: строительство строительный контроль | B8: 2015 | C8: =SUM(D8:F8) -> 112264.2 | D8: 29584.6 | E8: 41999.6 | F8: 40680 | G8: МУП "Капитальное строительство", МБУ "Единая дирекция по капитальному строительству и охране окружающей среды"
A9: строительство строительный контроль | B9: 2016 | C9: =SUM(D9:F9) -> 80000 | D9: 24000 | E9: 32000 | F9: 24000 | G9: МУП "Капитальное строительство", МБУ "Единая дирекция по капитальному строительству и охране окружающей среды"
A10: Строительство детского сада в пос.Пробуждение на 140 мест | B10: Всего: | C10: =D10+E10+F10 -> 119800 | D10: =D11+D12 -> 34860 | E10: =E11+E12 -> 46480 | F10: =F11+F12 -> 38460
A11: проектно-изыскательские работы | B11: 2016 | C11: =D11+E11+F11 -> 3600 | D11: 0 | E11: 0 | F11: 3600 | G11: МУП "Капитальное строительство"
A12: строительство строительный контроль | B12: 2017 | C12: =D12+E12+F12 -> 116200 | D12: 34860 | E12: 46480 | F12: 34860 | G12: МУП "Капитальное строительство", МБУ "Единая дирекция по капитальному строительству и охране окружающей среды"
A13: Строительство детского сада в с.Квасниковка на 80 мест | B13: Всего: | C13: =D13+E13+F13 -> 98500 | D13: =D14+D15 -> 28500 | E13: =E14+E15 -> 38000 | F13: =F14+F15 -> 32000
A14: проектно-изыскательские работы | B14: 2017 | C14: =D14+E14+F14 -> 3500 | D14: 0 | E14: 0 | F14: 3500 | G14: МУП "Капитальное строительство"
A15: строительство строительный контроль | B15: 2018 | C15: =D15+E15+F15 -> 95000 | D15: 28500 | E15: 38000 | F15: 28500 | G15: МУП "Капитальное строительство", МБУ "Единая дирекция по капитальному строительству и охране окружающей среды"
A16: Строительство детского сада в пос.Новопушкинское на 80 мест | B16: Всего: | C16: =D16+E16+F16 -> 98500 | D16: =D17+D18 -> 28500 | E16: =E17+E18 -> 38000 | F16: =F17+F18 -> 32000
A17: проектно-изыскательские работы | B17: 2019 | C17: =D17+E17+F17 -> 3500 | D17: 0 | E17: 0 | F17: 3500 | G17: МУП "Капитальное строительство"
A18: строительство строительный контроль | B18: 2020 | C18: =D18+E18+F18 -> 95000 | D18: 28500 | E18: 38000 | F18: 28500 | G18: МУП "Капитальное строительство", МБУ "Единая дирекция по капитальному строительству и охране окружающей среды"
A19: ИТОГО: | C19: =C4+C10+C13+C16 -> 537510 | D19: =D4+D10+D13+D16 -> 157860 | E19: =E4+E10+E13+E16 -> 210480 | F19: =F4+F10+F13+F16 -> 169170
B21: 2013
B22: 2014 | C22: =C5+C6+C7 -> 28445.8 | D22: =D5+D6+D7 -> 12415.4 | E22: =E5+E6+E7 -> 14000.4 | F22: =F5+F6+F7 -> 2030
B23: 2015 | C23: =C8 -> 112264.2 | D23: =D8 -> 29584.6 | E23: =E8 -> 41999.6 | F23: =F8 -> 40680
B24: 2016 | C24: =C9+C11 -> 83600 | D24: =D9+D11 -> 24000 | E24: =E9+E11 -> 32000 | F24: =F9+F11 -> 27600
B25: 2017 | C25: =C12+C14 -> 119700 | D25: =D12+D14 -> 34860 | E25: =E12+E14 -> 46480 | F25: =F12+F14 -> 38360
B26: 2018 | C26: =C15 -> 95000 | D26: =D15 -> 28500 | E26: =E15 -> 38000 | F26: =F15 -> 28500
B27: 2019 | C27: =C17 -> 3500 | D27: =D17 -> 0 | E27: =E17 -> 0 | F27: =F17 -> 3500
B28: 2020 | C28: =C18 -> 95000 | D28: =D18 -> 28500 | E28: =E18 -> 38000 | F28: =F18 -> 28500

Sheet здрав
A1: Мероприятие | B1: Год | C1: Объем финансирования, тыс. руб. | D1: в том числе за счет средств, тыс. руб. | G1: Исполнитель
D2: федерального бюджета | E2: областного бюджета | F2: местного бюджета
D3: бюджета
A4: Разработка проектно-сметной документации и проведение государственной экспертизы проекта для строительства ФАП в пос. им.К.Маркса | B4: 2013 | C4: =D4+E4+F4 -> 712.6 | D4: 0 | E4: 0 | F4: 712.6 | G4: Управление капитального строительства администрации Энгельсского муниципального района
A5: Строительство ФАП в пос. им.К.Маркса | B5: 2013 | C5: =D5+E5+F5 -> 9244.6 | D5: 2800 | E5: 5202 | F5: 1242.6 | G5: МУЗ "Энгельсская районная больница"
A6: Строительство ФАП в с.Степное-всего, в том числе: | B6: 2013-2014 | C6: =D6+E6+F6 -> 10394.7 | D6: =SUM(D7:D10) -> 2322 | E6: =SUM(E7:E10) -> 2618.5 | F6: =SUM(F7:F10) -> 5454.2
A7: разработка проектно-сметной документации | B7: 2013 | C7: =D7+E7+F7 -> 258.9 | D7: 0 | E7: 0 | F7: 258.9 | G7: Управление капитального строительства администрации Энгельсского муниципального района
A8: экспертиза проекта и достоверности сметной стоимости | B8: 2014 | C8: =D8+E8+F8 -> 216.7 | D8: 0 | E8: 0 | F8: 216.7 | G8: МУП "Капитальное строительство"
A9: строительство строительный контроль | B9: 2014 | C9: =D9+E9+F9 -> 9919.1 | D9: 2322 | E9: 2618.5 | F9: 4978.6 | G9: МУП "Капитальное строительство", МБУ "Единая дирекция по капитальному строительству и охране окружающей среды"
A11: Строительство, строительный контроль ФАП в с.Новая Терновка | B11: 2016 | C11: 6000 | D11: 1800 | E11: 2400 | F11: 1800 | G11: МУП "Капитальное строительство", МБУ "Единая дирекция по капитальному строительству и охране окружающей среды"
A12: ИТОГО: | C12: =C4+C5+C6+C11 -> 26351.9 | D12: =D4+D5+D6+D11 -> 6922 | E12: =E4+E5+E6+E11 -> 10220.5 | F12: =F4+F5+F6+F11 -> 9209.4
B14: 2013 | C14: =C4+C7+C5 -> 10216.1 | D14: =D4+D7+D5 -> 2800 | E14: =E4+E7+E5 -> 5202 | F14: =F4+F7+F5 -> 2214.1
B15: 2014 | C15: =C8+C9+C10 -> 10135.8 | D15: =D8+D9+D10 -> 2322 | E15: =E8+E9+E10 -> 2618.5 | F15: =F8+F9+F10 -> 5195.3
B16: 2015 | C16: 0 | D16: 0 | E16: 0 | F16: 0
B17: 2016 | C17: =C11 -> 6000 | D17: =D11 -> 1800 | E17: =E11 -> 2400 | F17: =F11 -> 1800
B18: 2017
B19: 2018
B20: 2019
B21: 2020

Sheet вода
A1: Мероприятие | B1: Срок | C1: Объем финансирования, тыс.рублей | D1: в том числе за счет средств | G1: Исполнитель
D2: Федеральный бюджет | E2: Областной бюджет | F2: Местный бюджет
A3: ИТОГО | B3: 2013-2020 | C3: =C4+C5+C6+C7+C8+C9+C10+C11 -> 277221.3 | D3: =D4+D5+D6+D7+D8+D9+D10+D11 -> 90066 | E3: =E4+E5+E6+E7+E8+E9+E10+E11 -> 114069 | F3: =F4+F5+F6+F7+F8+F9+F10+F11 -> 73086.3
B4: 2013 | C4: =D4+E4+F4 -> 33348.58 | D4: =D13+D24+D29+D36+D41+D47+D51+D53+D58+D60+D96 -> 13479.1 | E4: =E13+E24+E29+E36+E41+E47+E51+E53+E58+E60+E96 -> 15214.2 | F4: =F13+F24+F29+F36+F41+F47+F51+F53+F58+F60+F96 -> 4655.28
B5: 2014 | C5: =D5+E5+F5 -> 8397.02 | D5: =D14+D15+D16+D25+D30+D37+D42+D43+D44 -> 3130.2 | E5: =E14+E15+E16+E25+E30+E37+E42+E43+E44 -> 3529.8 | F5: =F14+F15+F16+F25+F30+F37+F42+F43+F44 -> 1737.02
B6: 2015 | C6: =D6+E6+F6 -> 56715.5 | D6: =D17+D45+D80+D26+D31+D38+D63+D70+D89+D49+D48+D62+D69+D88 -> 15870.7 | E6: =E17+E45+E80+E26+E31+E38+E63+E70+E89+E49+E48+E62+E69+E88 -> 21440.8 | F6: =F17+F45+F80+F26+F31+F38+F63+F70+F89+F49+F48+F62+F69+F88 -> 19404
B7: 2016 | C7: =D7+E7+F7 -> 26810 | D7: =D27+D32+D39+D64+D71+D75+D82+D90+D18 -> 7500 | E7: =E27+E32+E39+E64+E71+E75+E82+E90+E18 -> 10000 | F7: =F27+F32+F39+F64+F71+F75+F82+F90+F18 -> 9310
B8: 2017 | C8: =D8+E8+F8 -> 30000 | D8: =D33+D65+D72+D76+D83+D91+D97+D19 -> 9000 | E8: =E33+E65+E72+E76+E83+E91+E97+E19 -> 12000 | F8: =F33+F65+F72+F76+F83+F91+F97+F19 -> 9000
B9: 2018 | C9: =D9+E9+F9 -> 30000 | D9: =D34+D66+D73+D77+D84+D92+D98+D20 -> 9000 | E9: =E34+E66+E73+E77+E84+E92+E98+E20 -> 12000 | F9: =F34+F66+F73+F77+F84+F92+F98+F20 -> 9000
B10: 2019 | C10: =D10+E10+F10 -> 30480 | D10: =D55+D67+D78+D85+D93+D99+D21 -> 9000 | E10: =E55+E67+E78+E85+E93+E99+E21 -> 12000 | F10: =F55+F67+F78+F85+F93+F99+F21 -> 9480
B11: 2020 | C11: =D11+E11+F11 -> 61470.2 | D11: =D22+D56+D86+D94+D100+D102 -> 23086 | E11: =E22+E56+E86+E94+E100+E102 -> 27884.2 | F11: =F22+F56+F86+F94+F100+F102 -> 10500
A12: п.Новопушкинское | B12: 2013-2020 | C12: =SUM(C13:C22) -> 63298.8 | D12: =SUM(D13:D22) -> 23086 | E12: =SUM(E13:E22) -> 27884.2 | F12: =SUM(F13:F22) -> 12328.6
A13: проектно-изыскательские работы | B13: 2013 | C13: =D13+E13+F13 -> 1309.92 | D13: 0 | E13: 0 | F13: 1309.92 | G13: Управление капитального строительства администрации Энгельсского муниципального района
A14: экспертиза проекта (по контракту 2013 г.) | B14: 2014 | C14: =D14+E14+F14 -> 349.08 | D14: 0 | E14: 0 | F14: 349.08 | G14: Управление капитального строительства администрации Энгельсского муниципального района
A15: экспертиза достоверности сметной стоимости | B15: 2014 | C15: =D15+E15+F15 -> 169.6 | D15: 0 | E15: 0 | F15: 169.6 | G15: МУП "Капитальное строительство"
A16: реконструкция строительный контроль | B16: 2014 | C16: =D16+E16+F16 -> 3336 | D16: 1452.3 | E16: 1637.7 | F16: 246 | G16: МУП "Капитальное строительство", МБУ "Единая дирекция по капитальному строительству и охране окружающей среды"
A17: реконструкция строительный контроль | B17: 2015 | C17: =D17+E17+F17 -> 6664 | D17: 1547.7 | E17: 2362.3 | F17: 2754 | G17: МУП "Капитальное строительство", МБУ "Единая дирекция по капитальному строительству и охране окружающей среды"
A18: реконструкция строительный контроль | B18: 2016 | C18: =D18+E18+F18 -> 5000 | D18: 1500 | E18: 2000 | F18: 1500 | G18: МУП "Капитальное строительство", МБУ "Единая дирекция по капитальному строительству и охране окружающей среды"
A19: реконструкция строительный контроль | B19: 2017 | C19: =D19+E19+F19 -> 5000 | D19: 1500 | E19: 2000 | F19: 1500 | G19: МУП "Капитальное строительство", МБУ "Единая дирекция по капитальному строительству и охране окружающей среды"
A20: реконструкция строительный контроль | B20: 2018 | C20: =D20+E20+F20 -> 5000 | D20: 1500 | E20: 2000 | F20: 1500 | G20: МУП "Капитальное строительство", МБУ "Единая дирекция по капитальному строительству и охране окружающей среды"
A21: реконструкция строительный контроль | B21: 2019 | C21: =D21+E21+F21 -> 5000 | D21: 1500 | E21: 2000 | F21: 1500 | G21: МУП "Капитальное строительство", МБУ "Единая дирекция по капитальному строительству и охране окружающей среды"
A22: реконструкция строительный контроль | B22: 2020 | C22: =D22+E22+F22 -> 31470.2 | D22: 14086 | E22: 15884.2 | F22: 1500 | G22: МУП "Капитальное строительство", МБУ "Единая дирекция по капитальному строительству и охране окружающей среды"
A23: с.Красноармейское | B23: 2013-2016 | C23: =SUM(C24:C27) -> 15785 | D23: =SUM(D24:D27) -> 4410 | E23: =SUM(E24:E27) -> 5880 | F23: =SUM(F24:F27) -> 5495
A24: проектно-изыскательские работы | B24: 2013 | C24: =D24+E24+F24 -> 882.47 | D24: 0 | E24: 0 | F24: 882.47 | G24: Управление капитального строительства администрации Энгельсского муниципального района
A25: экспертиза проекта (по контракту 2013 г.) | B25: 2014 | C25: =D25+E25+F25 -> 202.53 | D25: 0 | E25: 0 | F25: 202.53 | G25: Управление капитального строительства администрации Энгельсского муниципального района
A26: реконструкция строительный контроль | B26: 2015 | C26: =D26+E26+F26 -> 10000 | D26: 3000 | E26: 4000 | F26: 3000 | G26: МУП "Капитальное строительство", МБУ "Единая дирекция по капитальному строительству и охране окружающей среды"
A27: реконструкция строительный контроль | B27: 2016 | C27: =D27+E27+F27 -> 4700 | D27: 1410 | E27: 1880 | F27: 1410 | G27: МУП "Капитальное строительство", МБУ "Единая дирекция по капитальному строительству и охране окружающей среды"
A28: с.Подстепное | B28: 2013-2018 | C28: =SUM(C29:C34) -> 14930 | D28: =SUM(D29:D34) -> 4170 | E28: =SUM(E29:E34) -> 5560 | F28: =SUM(F29:F34) -> 5200
A29: проектно-изыскательские работы | B29: 2013 | C29: =D29+E29+F29 -> 840.18 | D29: 0 | E29: 0 | F29: 840.18 | G29: Управление капитального строительства администрации Энгельсского муниципального района
A30: экспертиза проекта (по контракту 2013 г.) | B30: 2014 | C30: =D30+E30+F30 -> 189.82 | D30: 0 | E30: 0 | F30: 189.82 | G30: Управление капитального строительства администрации Энгельсского муниципального района
A31: реконструкция строительный контроль | B31: 2015 | C31: =D31+E31+F31 -> 6300 | D31: 1890 | E31: 2520 | F31: 1890 | G31: МУП "Капитальное строительство", МБУ "Единая дирекция по капитальному строительству и охране окружающей среды"
A32: реконструкция строительный контроль | B32: 2016 | C32: =D32+E32+F32 -> 2500 | D32: 750 | E32: 1000 | F32: 750 | G32: МУП "Капитальное строительство", МБУ "Единая дирекция по капитальному строительству и охране окружающей среды"
A33: реконструкция строительный контроль | B33: 2017 | C33: =D33+E33+F33 -> 2500 | D33: 750 | E33: 1000 | F33: 750 | G33: МУП "Капитальное строительство", МБУ "Единая дирекция по капитальному строительству и охране окружающей среды"
A34: реконструкция строительный контроль | B34: 2018 | C34: =D34+E34+F34 -> 2600 | D34: 780 | E34: 1040 | F34: 780 | G34: МУП "Капитальное строительство", МБУ "Единая дирекция по капитальному строительству и охране окружающей среды"
A35: с.Первомайское | B35: 2013-2016 | C35: =SUM(C36:C39) -> 10330 | D35: =SUM(D36:D39) -> 2880 | E35: =SUM(E36:E39) -> 3840 | F35: =SUM(F36:F39) -> 3610
A36: проектно-изыскательские работы | B36: 2013 | C36: =D36+E36+F36 -> 603.32 | D36: 0 | E36: 0 | F36: 603.32 | G36: Управление капитального строительства администрации Энгельсского муниципального района
A37: экспертиза проекта (по контракту 2013 г.) | B37: 2014 | C37: =D37+E37+F37 -> 126.68 | D37: 0 | E37: 0 | F37: 126.68 | G37: Управление капитального строительства администрации Энгельсского муниципального района
A38: реконструкция строительный контроль | B38: 2015 | C38: =D38+E38+F38 -> 6700 | D38: 2010 | E38: 2680 | F38: 2010 | G38: МУП "Капитальное строительство", МБУ "Единая дирекция по капитальному строительству и охране окружающей среды"
A39: реконструкция строительный контроль | B39: 2016 | C39: =D39+E39+F39 -> 2900 | D39: 870 | E39: 1160 | F39: 870 | G39: МУП "Капитальное строительство", МБУ "Единая дирекция по капитальному строительству и охране окружающей среды"
A40: пос.Калинино | B40: 2013-2015 | C40: =SUM(C41:C45) -> 11283.9 | D40: =SUM(D41:D45) -> 4090.9 | E40: =SUM(E41:E45) -> 5090.6 | F40: =SUM(F41:F45) -> 2102.4
...

Sheet газ
A1: Мероприятие | B1: Год | C1: Объем финансирования, тыс.руб. | D1: в том числе за счет средств, тыс. руб. | H1: Исполнитель
D2: федерального бюджета | E2: областного бюджета | F2: местного бюджета | G2: внебюджетные источники
D3: бюджета
A4: Газификация пос.Взлетный | B4: Всего: | C4: =C5 -> 122.8 | D4: =D5 -> 36 | E4: =E5 -> 74 | F4: =F5 -> 12.8 | G4: =G5 -> 0
A5: строительство | B5: 2013 | C5: =D5+E5+F5+G5 -> 122.8 | D5: 36 | E5: 74 | F5: 12.8 | G5: 0 | H5: Управление капитального строительства администрации Энгельсского муниципального района
A6: Газификация с.Новая Терновка: | B6: Всего: | C6: =C7+C8+C9+C10+C11 -> 11117.6 | D6: =D7+D8+D9+D10+D11 -> 4728.6 | E6: =E7+E8+E9+E10+E11 -> 5332.4 | F6: =F7+F8+F9+F10+F11 -> 1056.6 | G6: =G7+G8 -> 0
A7: проектно-изыскательские работы | B7: 2013 | C7: =D7+E7+F7+G7 -> 756 | D7: 0 | E7: 0 | F7: 756 | G7: 0 | H7: Управление капитального строительства администрации Энгельсского муниципального района
A8: экспертиза достоверности сметной документации | B8: 2014 | C8: =D8+E8+F8+G8 -> 70 | D8: 0 | E8: 0 | F8: 70 | G8: 0 | H8: МУП "Капитальное строительство"
A9: строительство строительный контроль | B9: 2014 | C9: =D9+E9+F9+G9 -> 2725 | D9: 1222 | E9: 1378 | F9: 125 | G9: 0 | H9: МУП "Капитальное строительство", МБУ "Единая дирекция по капитальному строительству и охране окружающей среды"
A11: строительство строительный контроль | B11: 2015 | C11: =D11+E11+F11+G11 -> 7566.6 | D11: 3506.6 | E11: 3954.4 | F11: 105.6 | G11: 0 | H11: МУП "Капитальное строительство", МБУ "Единая дирекция по капитальному строительству и охране окружающей среды"
A12: Газификация с.Подгорное: | B12: Всего: | C12: =C13+C14 -> 15500 | D12: =D13+D14 -> 1500 | E12: =E13+E14 -> 2000 | F12: =F13+F14 -> 1500 | G12: =G13+G14 -> 10500
A13: строительство строительный контроль | B13: 2016 | C13: =D13+E13+F13+G13 -> 5000 | D13: 1500 | E13: 2000 | F13: 1500 | G13: 0 | H13: МУП "Капитальное строительство", МБУ "Единая дирекция по капитальному строительству и охране окружающей среды"
A14: строительство межпоселкового газопровода | B14: 2016 | C14: =D14+E14+F14+G14 -> 10500 | D14: 0 | E14: 0 | F14: 0 | G14: 10500
A15: Газификация пос. Долинный: | B15: Всего: | C15: =C16+C17+C18 -> 32264 | D15: =D16+D17+D18 -> 1104 | E15: =E16+E17+E18 -> 1472 | F15: =F16+F17+F18 -> 4704 | G15: =G16+G17+G18 -> 24984
A16: проектно-изыскательские работы | B16: 2016 | C16: =D16+E16+F16+G16 -> 3600 | D16: 0 | E16: 0 | F16: 3600 | G16: 0 | H16: МУП "Капитальное строительство"
A17: строительство строительный контроль | B17: 2017 | C17: =D17+E17+F17+G17 -> 3680 | D17: 1104 | E17: 1472 | F17: 1104 | G17: 0 | H17: МУП "Капитальное строительство", МБУ "Единая дирекция по капитальному строительству и охране окружающей среды"
A18: строительство межпоселкового газопровода | B18: 2017 | C18: =D18+E18+F18+G18 -> 24984 | D18: 0 | E18: 0 | F18: 0 | G18: 24984
A19: ИТОГО: | C19: =C4+C6+C12+C15 -> 59004.4 | D19: =D4+D6+D12+D15 -> 7368.6 | E19: =E4+E6+E12+E15 -> 8878.4 | F19: =F4+F6+F12+F15 -> 7273.4 | G19: =G4+G6+G12+G15 -> 35484
B21: 2013 | C21: =C5+C7 -> 878.8 | D21: =D5+D7 -> 36 | E21: =E5+E7 -> 74 | F21: =F5+F7 -> 768.8 | G21: =G5+G7 -> 0
B22: 2014 | C22: =C8+C9+C10 -> 2795 | D22: =D8+D9+D10 -> 1222 | E22: =E8+E9+E10 -> 1378 | F22: =F8+F9+F10 -> 195 | G22: =G8+G9+G10 -> 0
B23: 2015 | C23: =C11 -> 7566.6 | D23: =D11 -> 3506.6 | E23: =E11 -> 3954.4 | F23: =F11 -> 105.6 | G23: =G11 -> 0
B24: 2016 | C24: =C13+C14+C16 -> 19100 | D24: =D13+D14+D16 -> 1500 | E24: =E13+E14+E16 -> 2000 | F24: =F13+F14+F16 -> 5100 | G24: =G13+G14+G16 -> 10500
B25: 2017 | C25: =C17+C18 -> 28664 | D25: =D17+D18 -> 1104 | E25: =E17+E18 -> 1472 | F25: =F17+F18 -> 1104 | G25: =G17+G18 -> 24984
B26: 2018
B27: 2019
B28: 2020
A48: с.Березовка | B48: 2014-2019 | C48: =SUM(C49:C54) -> 24780 | D48: =SUM(D49:D54) -> 7080 | E48: =SUM(E49:E54) -> 9440 | F48: =SUM(F49:F54) -> 8260 | H48: =SUM(H49:H54) -> 24780
A49: проектно-изыскательные работы | B49: 2014 | C49: 1180 | D49: 0 | E49: 0 | F49: 1180 | H49: 1180
A50: строительство | B50: 2015 | C50: 5000 | D50: 1500 | E50: 2000 | F50: 1500 | H50: 5000
A51: строительство | B51: 2016 | C51: 5300 | D51: 1590 | E51: 2120 | F51: 1590 | H51: 5300
A52: строительство | B52: 2017 | C52: 5000 | D52: 1500 | E52: 2000 | F52: 1500 | H52: 5000
A53: строительство | B53: 2018 | C53: 5000 | D53: 1500 | E53: 2000 | F53: 1500 | H53: 5000
A54: строительство | B54: 2019 | C54: 3300 | D54: 990 | E54: 1320 | F54: 990 | H54: 3300
A55: с.Генеральское | B55: 2014-2018 | C55: =SUM(C56:C60) -> 9660 | D55: =SUM(D56:D60) -> 2760 | E55: =SUM(E56:E60) -> 3680 | F55: =SUM(F56:F60) -> 3220 | H55: =SUM(H56:H60) -> 9660
A56: проектно-изыскательные работы | B56: 2014 | C56: 460 | D56: 0 | E56: 0 | F56: 460 | H56: 460
A57: строительство | B57: 2015 | C57: 2500 | D57: 750 | E57: 1000 | F57: 750 | H57: 2500
A58: строительство | B58: 2016 | C58: 2500 | D58: 750 | E58: 1000 | F58: 750 | H58: 2500
A59: строительство | B59: 2017 | C59: 2100 | D59: 630 | E59: 840 | F59: 630 | H59: 2100
A60: строительство | B60: 2018 | C60: 2100 | D60: 630 | E60: 840 | F60: 630 | H60: 2100
A61: с.Кирово | B61: 2014-2019 | C61: =SUM(C62:C65) -> 11760 | D61: =SUM(D62:D65) -> 3360 | E61: =SUM(E62:E65) -> 4480 | F61: =SUM(F62:F65) -> 3920 | H61: =SUM(H62:H65) -> 11760
...

Sheet Конкурс
A1: Мероприятие | B1: Год | C1: Объем финансирования, тыс. рублей | D1: в том числе за счет средств: | G1: Исполнитель
D2: федерального бюджета | E2: областного бюджета | F2: местного бюджета
A3: Организация и проведение ежегодного муниципального конкурса работников агропромышленного комплекса Энгельсского муниципального района | B3: 2014 | C3: 410 | D3: 0 | E3: 0 | F3: 410 | G3: Управление сельского хозяйства и перерабатывающей промышленности администрации Энгельсского муниципального района
B4: 2015 | C4: 410 | D4: 0 | E4: 0 | F4: 410
B5: 2016 | C5: 410 | D5: 0 | E5: 0 | F5: 410
B6: 2017 | C6: 410 | D6: 0 | E6: 0 | F6: 410
B7: 2018 | C7: 410 | D7: 0 | E7: 0 | F7: 410
B8: 2019 | C8: 410 | D8: 0 | E8: 0 | F8: 410
B9: 2020 | C9: 410 | D9: 0 | E9: 0 | F9: 410
A10: ИТОГО | C10: 2 870,0 | D10: 0 | E10: 0 | F10: 2 870,0

Sheet вода2013
A1: Выды работ | B1: Срок | C1: Объем финансирования, млн.рублей | D1: в том числе за счет средств
D2: Федеральный бюджет | E2: Областной бюджет | F2: Местный бюджет
A3: 2013 год ВСЕГО | B3: 2013 | C3: 28490 | D3: 7500 | E3: 10000 | F3: 10990
A4: п.Новопушкинское
A5: проектно-изыскательные работы | B5: 2013 | C5: 1500 | D5: 0 | E5: 0 | F5: 1500
A6: с.Красноармейское
A7: проектно-изыскательные работы | B7: 2013 | C7: 740 | D7: 0 | E7: 0 | F7: 740
A8: с.Подстепное
A9: проектно-изыскательные работы | B9: 2013 | C9: 700 | D9: 0 | E9: 0 | F9: 700
A10: с.Первомайское
A11: проектно-изыскательные работы | B11: 2013 | C11: 480 | D11: 0 | E11: 0 | F11: 480
A12: с.Калинино
A13: проектно-изыскательные работы | B13: 2013 | C13: 70 | D13: 0 | E13: 0 | F13: 70
A14: с.Красный Яр
A15: строительство | B15: 2013 | C15: 9400 | D15: 2820 | E15: 3760 | F15: 2820
A16: с.Ленинское
A17: строительство | B17: 2013 | C17: 600 | D17: 180 | E17: 240 | F17: 180
A18: с.Титаренко
A19: строительство | B19: 2013 | C19: 5000 | D19: 1500 | E19: 2000 | F19: 1500
A20: пос.Прилужный
A21: строительство | B21: 2013 | C21: 5000 | D21: 1500 | E21: 2000 | F21: 1500
A22: пос.Придорожный
A23: строительство | B23: 2013 | C23: 5000 | D23: 1500 | E23: 2000 | F23: 1500

Sheet Прил.1
H1: Приложение к Постановлению от 24.12.2014 года № 7422
H2: Приложение 1
H3: к муниципальной программе «Развитие агропромышленного комплекса
H4: и сельских территорий в Энгельсском муниципальном районе на 2013-2020 годы»
B6: Система программных мероприятий по развитию социальной и инженерной инфраструктуры в сельской местности
A8: № п/п | B8: Наименование мероприятия | C8: Срок исполнения (годы) | D8: Объем финансового обеспечения, всего (прогноз), тыс. рублей | E8: в том числе за счет средств | I8: Исполнители | J8: Ожидаемые результаты
E9: федерального бюджета (прогноз), тыс. рублей | F9: областного бюджета (прогноз), тыс. рублей | G9: местного бюджета, тыс. рублей | H9: внебюджетных источников (прогноз), тыс. рублей
A10: 1. | B10: Мероприятия по улучшению жилищных условий граждан, проживающих в сельской местности, молодых семей и молодых специалистов | C10: 2013-2020 | D10: =E10+F10+G10+H10 -> 307186.8 | E10: =SUM(E11:E18) -> 92156 | F10: =SUM(F11:F18) -> 122874.8 | G10: =SUM(G11:G18) -> 0 | H10: =SUM(H11:H18) -> 92156 | I10: комитет ЖКХ, ТЭК, транспорта и связи; | J10: ввод (приобретение) 11,6 тыс. кв. м жилья для граждан, проживающих в сельской местности, в том числе 6,6 тыс. кв. м - для молодых семей и молодых специалистов
C11: 2013 | D11: =E11+F11+G11+H11 -> 31108.6 | E11: =Жилье!E2 -> 9332.6 | F11: =Жилье!F2 -> 12443.4 | G11: 0 | H11: =Жилье!G2 -> 9332.6
C12: 2014 | D12: =E12+F12+G12+H12 -> 33396 | E12: =Жилье!E3 -> 10018.8 | F12: =Жилье!F3 -> 13358.4 | G12: 0 | H12: =Жилье!G3 -> 10018.8
C13: 2015 | D13: =E13+F13+G13+H13 -> 35086.3 | E13: =Жилье!E4 -> 10525.9 | F13: =Жилье!F4 -> 14034.5 | G13: 0 | H13: =Жилье!G4 -> 10525.9
C14: 2016 | D14: =E14+F14+G14+H14 -> 36835 | E14: =Жилье!E5 -> 11050.5 | F14: =Жилье!F5 -> 14734 | G14: 0 | H14: =Жилье!G5 -> 11050.5
C15: 2017 | D15: =E15+F15+G15+H15 -> 38714.7 | E15: =Жилье!E6 -> 11614.4 | F15: =Жилье!F6 -> 15485.9 | G15: 0 | H15: =Жилье!G6 -> 11614.4
C16: 2018 | D16: =E16+F16+G16+H16 -> 40586.7 | E16: =Жилье!E7 -> 12176 | F16: =Жилье!F7 -> 16234.7 | G16: 0 | H16: =Жилье!G7 -> 12176
C17: 2019 | D17: =E17+F17+G17+H17 -> 42522.1 | E17: =Жилье!E8 -> 12756.6 | F17: =Жилье!F8 -> 17008.9 | G17: 0 | H17: =Жилье!G8 -> 12756.6
C18: 2020 | D18: =E18+F18+G18+H18 -> 48937.4 | E18: =Жилье!E9 -> 14681.2 | F18: =Жилье!F9 -> 19575 | G18: 0 | H18: =Жилье!G9 -> 14681.2
A19: 2. | B19: Мероприятия по развитию общеобразовательных учреждений - всего, из них: | C19: 2013-2020 | D19: =E19+F19+G19+H19 -> 537616.68 | E19: =SUM(E20:E27) -> 157860 | F19: =SUM(F20:F27) -> 210480 | G19: =SUM(G20:G27) -> 169276.68 | H19: =SUM(H20:H27) -> 0 | I19: управление капитального строительства; комитет по образованию и молодежной политике; МУП "Капитальное строительство"; МБУ "Единая дирекция по капитальному строительству и охране окружающей среды" | J19: ввод в действие одного общеобразовательного учреждения, ввод в действие трех дошкольных образовательных учреждений
C20: 2013 | D20: =E20+F20+G20+H20 -> 0 | E20: 0 | F20: 0 | G20: 0 | H20: 0
C21: 2014 | D21: =E21+F21+G21+H21 -> 20986.68 | E21: =E29+E30 -> 8850 | F21: =F29+F30 -> 10000 | G21: =G29+G30 -> 2136.68 | H21: =H29+H30 -> 0
C22: 2015 | D22: =E22+F22+G22+H22 -> 119830 | E22: =E32 -> 33150 | F22: =F32 -> 46000 | G22: =G32 -> 40680 | H22: =H32 -> 0
C23: 2016 | D23: =E23+F23+G23+H23 -> 83600 | E23: =E34+E37 -> 24000 | F23: =F34+F37 -> 32000 | G23: =G34+G37 -> 27600 | H23: =H34+H37 -> 0
C24: 2017 | D24: =E24+F24+G24+H24 -> 119700 | E24: =E38+E41 -> 34860 | F24: =F38+F41 -> 46480 | G24: =G38+G41 -> 38360 | H24: =H38+H41 -> 0
C25: 2018 | D25: =E25+F25+G25+H25 -> 95000 | E25: =E42 -> 28500 | F25: =F42 -> 38000 | G25: =G42 -> 28500 | H25: =H42 -> 0
C26: 2019 | D26: =E26+F26+G26+H26 -> 3500 | E26: =E45 -> 0 | F26: =F45 -> 0 | G26: =G45 -> 3500 | H26: =H45 -> 0
C27: 2020 | D27: =E27+F27+G27+H27 -> 95000 | E27: =E46 -> 28500 | F27: =F46 -> 38000 | G27: =G46 -> 28500 | H27: =H46 -> 0
A28: 2.1. | B28: Строительство школы в с.Безымянное на 176 ученических мест | C28: Всего: | D28: =SUM(E28:G28) -> 220816.68 | E28: =SUM(E29:E34) -> 66000 | F28: =SUM(F29:F34) -> 88000 | G28: =SUM(G29:G34) -> 66816.68 | H28: =SUM(H29:H38) -> 0
B29: внесение изменений в проект, экспертиза достоверности сметной стоимости | C29: 2014 | D29: =SUM(E29:G29) -> 816.68 | E29: 0 | F29: 0 | G29: 816.68 | H29: 0 | I29: МУП "Капитальное строительство"
B30: строительство строительный контроль | C30: 2014 | D30: =SUM(E30:G31) -> 20170 | E30: 8850 | F30: 10000 | G30: 1320 | H30: 0 | I30: МУП "Капитальное строительство", МБУ "Единая дирекция по капитальному строительству и охране окружающей среды"
B31: строительный контроль | I31: МБУ "Единая дирекция по капитальному строительству и охране окружающей среды"
B32: строительство | C32: 2015 | D32: =SUM(E32:G32) -> 119830 | E32: 33150 | F32: 46000 | G32: 40680 | H32: 0 | I32: МУП "Капитальное строительство"
B33: строительный контроль | I33: МБУ "Единая дирекция по капитальному строительству и охране окружающей среды"
B34: строительство | C34: 2016 | D34: =SUM(E34:G34) -> 80000 | E34: 24000 | F34: 32000 | G34: 24000 | H34: 0 | I34: МУП "Капитальное строительство"
B35: строительный контроль | I35: МБУ "Единая дирекция по капитальному строительству и охране окружающей среды"
A36: 2.2. | B36: Строительство детского сада в пос.Пробуждение на 140 мест | C36: Всего: | D36: =E36+F36+G36 -> 119800 | E36: =E37+E38 -> 34860 | F36: =F37+F38 -> 46480 | G36: =G37+G38 -> 38460 | H36: =SUM(H37:H46) -> 0
B37: проектно-изыскательские работы | C37: 2016 | D37: =E37+F37+G37 -> 3600 | E37: 0 | F37: 0 | G37: 3600 | H37: 0 | I37: МУП "Капитальное строительство"
B38: строительство | C38: 2017 | D38: =E38+F38+G38 -> 116200 | E38: 34860 | F38: 46480 | G38: 34860 | H38: 0 | I38: МУП "Капитальное строительство"
B39: строительный контроль | I39: МБУ "Единая дирекция по капитальному строительству и охране окружающей среды"
A40: 2.3. | B40: Строительство детского сада в с.Квасниковка на 80 мест | C40: Всего: | D40: =E40+F40+G40 -> 98500 | E40: =E41+E42 -> 28500 | F40: =F41+F42 -> 38000 | G40: =G41+G42 -> 32000 | H40: =SUM(H41:H50) -> 0
B41: проектно-изыскательские работы | C41: 2017 | D41: =E41+F41+G41 -> 3500 | E41: 0 | F41: 0 | G41: 3500 | H41: 0 | I41: МУП "Капитальное строительство"
B42: строительство | C42: 2018 | D42: =E42+F42+G42 -> 95000 | E42: 28500 | F42: 38000 | G42: 28500 | H42: 0 | I42: МУП "Капитальное строительство"
...

Sheet Ресурсы
A1: Общий объем финансового обеспечения Программы на 2013-2020 годы составляет 1 303 135,52 тыс. рублей (прогнозно), в том числе: | L1: =SUM(L2:L37) -> 1303135.5
A2: из федерального бюджета (прогнозно) – 382 456,30 тыс. рублей, в том числе по годам:
A3: 2013 год - | D3: =Прил.1!E259 -> 25647.7 | E3: тыс.рублей; | L3: =SUM(D3:D10) -> 382456.3
A4: 2014 год - | D4: =Прил.1!E260 -> 25546.7 | E4: тыс.рублей;
A5: 2015 год - | D5: =Прил.1!E261 -> 63053.2 | E5: тыс.рублей;
A6: 2016 год - | D6: =Прил.1!E262 -> 57550.5 | E6: тыс.рублей;
A7: 2017 год - | D7: =Прил.1!E263 -> 56578.4 | E7: тыс.рублей;
A8: 2018 год - | D8: =Прил.1!E264 -> 57866 | E8: тыс.рублей;
A9: 2019 год - | D9: =Прил.1!E265 -> 21756.6 | E9: тыс.рублей;
A10: 2020 год - | D10: =Прил.1!E266 -> 74457.2 | E10: тыс.рублей;
A11: из областного бюджета (прогнозно) – 503 970,20 тыс. рублей, в том числе по годам:
A12: 2013 год - | D12: =Прил.1!F259 -> 32933.6 | E12: тыс.рублей; | L12: =SUM(D12:D19) -> 503970.2
A13: 2014 год - | D13: =Прил.1!F260 -> 30892.2 | E13: тыс.рублей;
A14: 2015 год - | D14: =Прил.1!F261 -> 85429.7 | E14: тыс.рублей;
A15: 2016 год - | D15: =Прил.1!F262 -> 76734 | E15: тыс.рублей;
A16: 2017 год - | D16: =Прил.1!F263 -> 75437.9 | E16: тыс.рублей;
A17: 2018 год - | D17: =Прил.1!F264 -> 77154.7 | E17: тыс.рублей;
A18: 2019 год - | D18: =Прил.1!F265 -> 29008.9 | E18: тыс.рублей;
A19: 2020 год - | D19: =Прил.1!F266 -> 96379.2 | E19: тыс.рублей;
A20: из местного бюджета (прогнозно) – 289 069,02 тыс. рублей, в том числе по годам:
A21: 2013 год - | D21: =Прил.1!G259 -> 7638.18 | E21: тыс.рублей; | L21: =SUM(D21:D28) -> 289069.02
A22: 2014 год - | D22: =Прил.1!G260 -> 7807.24 | E22: тыс.рублей;
A23: 2015 год - | D23: =Прил.1!G261 -> 61964.597 | E23: тыс.рублей;
A24: 2016 год - | D24: =Прил.1!G262 -> 55510 | E24: тыс.рублей;
A25: 2017 год - | D25: =Прил.1!G263 -> 49364 | E25: тыс.рублей;
A26: 2018 год - | D26: =Прил.1!G264 -> 45690 | E26: тыс.рублей;
A27: 2019 год - | D27: =Прил.1!G265 -> 13880 | E27: тыс.рублей;
A28: 2020 год - | D28: =Прил.1!G266 -> 47215.003 | E28: тыс.рублей;
A29: из внебюджетных источников (прогнозно) – 127 640,00 тыс. рублей, в том числе по годам:
A30: 2013 год - | D30: =Прил.1!H259 -> 9332.6 | E30: тыс.рублей; | L30: =SUM(D30:D37) -> 127640
A31: 2014 год - | D31: =Прил.1!H260 -> 10018.8 | E31: тыс.рублей;
A32: 2015 год - | D32: =Прил.1!H261 -> 10525.9 | E32: тыс.рублей;
A33: 2016 год - | D33: =Прил.1!H262 -> 21550.5 | E33: тыс.рублей;
A34: 2017 год - | D34: =Прил.1!H263 -> 36598.4 | E34: тыс.рублей;
A35: 2018 год - | D35: =Прил.1!H264 -> 12176 | E35: тыс.рублей;
A36: 2019 год - | D36: =Прил.1!H265 -> 12756.6 | E36: тыс.рублей;
A37: 2020 год - | D37: =Прил.1!H266 -> 14681.2 | E37: тыс.рублей;
